BEGIN:VCALENDAR
VERSION:2.0
PRODID:-//Stairway to Zeppelin - ECPv6.15.11//NONSGML v1.0//EN
CALSCALE:GREGORIAN
METHOD:PUBLISH
X-WR-CALNAME:Stairway to Zeppelin
X-ORIGINAL-URL:https://stairwaytozeppelin.com
X-WR-CALDESC:Events for Stairway to Zeppelin
REFRESH-INTERVAL;VALUE=DURATION:PT1H
X-Robots-Tag:noindex
X-PUBLISHED-TTL:PT1H
BEGIN:VTIMEZONE
TZID:UTC
BEGIN:STANDARD
TZOFFSETFROM:+0000
TZOFFSETTO:+0000
TZNAME:UTC
DTSTART:20170101T000000
END:STANDARD
END:VTIMEZONE
BEGIN:VEVENT
DTSTART;TZID=UTC:20181102T190000
DTEND;TZID=UTC:20181102T230000
DTSTAMP:20260422T005406
CREATED:20180827T192823Z
LAST-MODIFIED:20180827T193351Z
UID:606-1541185200-1541199600@stairwaytozeppelin.com
SUMMARY:Mercury Ballroom Louisville KY
DESCRIPTION:
URL:https://stairwaytozeppelin.com/event/mercury-ballroom-louisville-ky/
END:VEVENT
BEGIN:VEVENT
DTSTART;TZID=UTC:20181103T190000
DTEND;TZID=UTC:20181103T230000
DTSTAMP:20260422T005406
CREATED:20180827T193438Z
LAST-MODIFIED:20180827T193438Z
UID:610-1541271600-1541286000@stairwaytozeppelin.com
SUMMARY:Spillway Bowling Green
DESCRIPTION:
URL:https://stairwaytozeppelin.com/event/spillway-bowling-green/
END:VEVENT
BEGIN:VEVENT
DTSTART;TZID=UTC:20181117T180000
DTEND;TZID=UTC:20181117T230000
DTSTAMP:20260422T005406
CREATED:20181117T181447Z
LAST-MODIFIED:20180827T192523Z
UID:587-1542477600-1542495600@stairwaytozeppelin.com
SUMMARY:Led Zeppelin Tribute Show Fox Sports Midwest live St Louis MO
DESCRIPTION:
URL:https://stairwaytozeppelin.com/event/led-zeppelin-tribute-show-fox-sports-midwest-live/
END:VEVENT
BEGIN:VEVENT
DTSTART;TZID=UTC:20181117T190000
DTEND;TZID=UTC:20181117T230000
DTSTAMP:20260422T005406
CREATED:20180927T053040Z
LAST-MODIFIED:20180927T053108Z
UID:620-1542481200-1542495600@stairwaytozeppelin.com
SUMMARY:Stairway To Zeppelin @ Fox Sports Midwest Live
DESCRIPTION:Stairway To Zeppelin\, Nashville’s premier Led Zeppelin Tribute has been playing to capacity audiences who’ve raved that this band is some of the best Led Zeppelin tributes they’ve seen or heard.  The band features world class musicians from Los Angeles to Nashville who’ve appeared /worked world class artists.  The band:  Jonathan Johnson–vocals\, (Belmont).  Credits include\, Fun\, Sublime\, Sugar Cult\, US Army.  Paul O’Connor–Guitar\, (CWU) Credits include; Heart\, Richard Marx\, Gary LeVox\, Little River Band\, Autograph\, Fee Waybill\, David Grohl’s movie Sound City\, Jeff Seitz–drums\, (Juliard). Credits include\, The Police\, Sting\, Godspeed\, Animal Logic\, The New Jersey Symphony.  Eric Swanson–Bass (Berklee School Of Music).  Credits include\, Netflix\, A&E\, Rings Of Saturn\, Quiet Riot\, King Cobra. \n\nhttps://stairwaytozeppelin.com/wp-content/uploads/2018/09/STZ-Instagram-Song-Remains.m4v
URL:https://stairwaytozeppelin.com/event/stairway-to-zeppelin-fox-sports-midwest-live/
LOCATION:Fox Sports Midwest Live\, 601 Clark Street #103\, St Louis\, MO\, United States
END:VEVENT
BEGIN:VEVENT
DTSTART;TZID=UTC:20181124T190000
DTEND;TZID=UTC:20181124T230000
DTSTAMP:20260422T005406
CREATED:20180827T192949Z
LAST-MODIFIED:20210806T202133Z
UID:608-1543086000-1543100400@stairwaytozeppelin.com
SUMMARY:Bogarts Cincinnati OH
DESCRIPTION:
URL:https://stairwaytozeppelin.com/event/bogarts-cincinnati-oh/
END:VEVENT
END:VCALENDAR