BEGIN:VCALENDAR
VERSION:2.0
PRODID:-//Stairway to Zeppelin - ECPv6.15.11//NONSGML v1.0//EN
CALSCALE:GREGORIAN
METHOD:PUBLISH
X-WR-CALNAME:Stairway to Zeppelin
X-ORIGINAL-URL:https://stairwaytozeppelin.com
X-WR-CALDESC:Events for Stairway to Zeppelin
REFRESH-INTERVAL;VALUE=DURATION:PT1H
X-Robots-Tag:noindex
X-PUBLISHED-TTL:PT1H
BEGIN:VTIMEZONE
TZID:UTC
BEGIN:STANDARD
TZOFFSETFROM:+0000
TZOFFSETTO:+0000
TZNAME:UTC
DTSTART:20170101T000000
END:STANDARD
END:VTIMEZONE
BEGIN:VEVENT
DTSTART;TZID=UTC:20181006T180000
DTEND;TZID=UTC:20181006T230000
DTSTAMP:20260424T095156
CREATED:20180701T180702Z
LAST-MODIFIED:20180701T180702Z
UID:583-1538848800-1538866800@stairwaytozeppelin.com
SUMMARY:Led Zeppelin Tribute Show Good Ol' Days
DESCRIPTION:
URL:https://stairwaytozeppelin.com/event/led-zeppelin-tribute-show-good-ol-days/
END:VEVENT
BEGIN:VEVENT
DTSTART;TZID=UTC:20181013T080000
DTEND;TZID=UTC:20181013T180000
DTSTAMP:20260424T095156
CREATED:20180701T175959Z
LAST-MODIFIED:20180701T180039Z
UID:578-1539417600-1539453600@stairwaytozeppelin.com
SUMMARY:Led Zeppelin Tribute Show JD Legends
DESCRIPTION:
URL:https://stairwaytozeppelin.com/event/led-zeppelin-tribute-show-jd-legends/
END:VEVENT
END:VCALENDAR