BEGIN:VCALENDAR
VERSION:2.0
PRODID:-//Stairway to Zeppelin - ECPv6.15.11//NONSGML v1.0//EN
CALSCALE:GREGORIAN
METHOD:PUBLISH
X-WR-CALNAME:Stairway to Zeppelin
X-ORIGINAL-URL:https://stairwaytozeppelin.com
X-WR-CALDESC:Events for Stairway to Zeppelin
REFRESH-INTERVAL;VALUE=DURATION:PT1H
X-Robots-Tag:noindex
X-PUBLISHED-TTL:PT1H
BEGIN:VTIMEZONE
TZID:UTC
BEGIN:STANDARD
TZOFFSETFROM:+0000
TZOFFSETTO:+0000
TZNAME:UTC
DTSTART:20170101T000000
END:STANDARD
END:VTIMEZONE
BEGIN:VEVENT
DTSTART;TZID=UTC:20180811T180000
DTEND;TZID=UTC:20180811T233000
DTSTAMP:20260424T203935
CREATED:20180701T180537Z
LAST-MODIFIED:20180701T181117Z
UID:580-1534010400-1534030200@stairwaytozeppelin.com
SUMMARY:Led Zeppelin tribute Good Ol' Days
DESCRIPTION:
URL:https://stairwaytozeppelin.com/event/led-zeppelin-tribute-good-ol-days/
END:VEVENT
END:VCALENDAR